BEGIN:VCALENDAR
VERSION:2.0
PRODID:-//120.138.22.125//NONSGML kigkonsult.se iCalcreator 2.20//
CALSCALE:GREGORIAN
METHOD:PUBLISH
X-WR-CALNAME:Black Salt Bar
X-WR-CALDESC:
X-FROM-URL:http://www.blacksaltbar.co.nz
X-WR-TIMEZONE:Pacific/Auckland
BEGIN:VTIMEZONE
TZID:Pacific/Auckland
X-LIC-LOCATION:Pacific/Auckland
BEGIN:STANDARD
DTSTART:20180401T030000
TZOFFSETFROM:+1300
TZOFFSETTO:+1200
TZNAME:NZST
END:STANDARD
BEGIN:DAYLIGHT
DTSTART:20170924T020000
TZOFFSETFROM:+1200
TZOFFSETTO:+1300
TZNAME:NZDT
END:DAYLIGHT
END:VTIMEZONE
BEGIN:VEVENT
UID:ai1ec-1065@www.blacksaltbar.co.nz
DTSTAMP:20180124T090156Z
CATEGORIES:
CONTACT:
DESCRIPTION:Join us for the St Patrick’s Day festivities! Murphy’s Irish Be
 er on tap\, Irish-inspired food and more!
DTSTART;TZID=Pacific/Auckland:20160317T113000
DTEND;TZID=Pacific/Auckland:20160317T120000
SEQUENCE:0
SUMMARY:St Patrick’s Day at Black Salt!
URL:http://www.blacksaltbar.co.nz/ai1ec_event/st-patricks-day-at-black-salt
 /
X-ALT-DESC;FMTTYPE=text/html:<!DOCTYPE HTML PUBLIC '-//W3C//DTD HTML 3.2//E
 N'>\\n<HTML>\\n<HEAD>\\n<TITLE></TITLE>\\n</HEAD>\\n<BODY><p>Join us for t
 he St Patrick’s Day festivities! Murphy’s Irish Beer on tap\, Irish-inspir
 ed food and more!</p>\n</BODY></HTML>
END:VEVENT
END:VCALENDAR
